BEGIN:VCALENDAR
VERSION:2.0
PRODID:-//wp-events-plugin.com//7.2.3.1//EN
TZID:Europe/Berlin
X-WR-TIMEZONE:Europe/Berlin
BEGIN:VEVENT
UID:1828@elternforum-marbach.de
DTSTART;TZID=Europe/Berlin:20251207T123000
DTEND;TZID=Europe/Berlin:20251207T170000
DTSTAMP:20251204T180414Z
URL:https://elternforum-marbach.de/events/weihnachtliches-basteln-im-famil
 ienzentrum/
SUMMARY:Weihnachtliches Basteln im Familienzentrum
DESCRIPTION:\n\n\n\n&nbsp\;\n\n\n\nWeihnachtliches Basteln im Familienzentr
 um\n\n\n\n\n\n&nbsp\;\n\n\n\n\n\n\n\n\nWir öffnen wieder während des Wei
 hnachtsmarktes unsere Türen \,\n\n\n\n\nzum weihnachtlichen\n\n\n\n\nBast
 eln &amp\; Gestalten für Kinder jeden Alters.\n\n&nbsp\;\n\n\n\n\n\n\nSon
 ntag\, den 07.12.2025\n\n\n\n\n12:30 - 17:00 Uhr\n\n\n\n\nFamilienzentrum\
 , Marktstr. 6\n\n\n\n\n\n\n&nbsp\;\n\n\n\n\n\n\n
CATEGORIES:Veranstaltungen
LOCATION:Familienzentrum Marbach\, Markstraße 6\, Marbach am Neckar\, 7167
 2\, Deutschland
X-APPLE-STRUCTURED-LOCATION;VALUE=URI;X-ADDRESS=Markstraße 6\, Marbach am 
 Neckar\, 71672\, Deutschland;X-APPLE-RADIUS=100;X-TITLE=Familienzentrum Ma
 rbach:geo:0,0
END:VEVENT
BEGIN:VTIMEZONE
TZID:Europe/Berlin
X-LIC-LOCATION:Europe/Berlin
BEGIN:STANDARD
DTSTART:20251026T020000
TZOFFSETFROM:+0200
TZOFFSETTO:+0100
TZNAME:CET
END:STANDARD
END:VTIMEZONE
END:VCALENDAR