BEGIN:VCALENDAR
VERSION:2.0
PRODID:-//wp-events-plugin.com//7.2.3.1//EN
TZID:Europe/Berlin
X-WR-TIMEZONE:Europe/Berlin
BEGIN:VEVENT
UID:899@elternforum-marbach.de
DTSTART;TZID=Europe/Berlin:20240920T100000
DTEND;TZID=Europe/Berlin:20240920T113000
DTSTAMP:20240911T173608Z
URL:https://elternforum-marbach.de/events/stillcafe-september/
SUMMARY:Yoga meets Stillcafé - September
DESCRIPTION:Wir laden euch herzlich ein\, an unserem neuen Sanftes Yoga mee
 ts Stillcafé Still-Café teilzunehmen. Nach einer 30 minütigen wohltuend
 en Yogaeinheit bleibt genügend Zeit für den gemeinsamen Austausch sowie 
 die Möglichkeit\, ein Gespräch unter vier Augen mit unserer AFS-Stillber
 aterin Jana Denzer zu führen und individuelle Fragen zu erörtern.\nDie T
 eilnahme am Yoga meets Stillcafé ist kostenfei und unverbindlich. Zur be
 sseren Planbarkeit freuen wir uns über eine Anmeldung unter stillcafe(at)
 elternforum-marbach.de
CATEGORIES:Stillcafé
LOCATION:Familienzentrum Marbach\, Markstraße 6\, Marbach am Neckar\, 7167
 2\, Deutschland
X-APPLE-STRUCTURED-LOCATION;VALUE=URI;X-ADDRESS=Markstraße 6\, Marbach am 
 Neckar\, 71672\, Deutschland;X-APPLE-RADIUS=100;X-TITLE=Familienzentrum Ma
 rbach:geo:0,0
END:VEVENT
BEGIN:VTIMEZONE
TZID:Europe/Berlin
X-LIC-LOCATION:Europe/Berlin
BEGIN:DAYLIGHT
DTSTART:20240331T030000
TZOFFSETFROM:+0100
TZOFFSETTO:+0200
TZNAME:CEST
END:DAYLIGHT
END:VTIMEZONE
END:VCALENDAR