BEGIN:VCALENDAR
VERSION:2.0
PRODID:-//wp-events-plugin.com//7.2.3.1//EN
TZID:Europe/Berlin
X-WR-TIMEZONE:Europe/Berlin
BEGIN:VEVENT
UID:896@elternforum-marbach.de
DTSTART;TZID=Europe/Berlin:20241108T190000
DTEND;TZID=Europe/Berlin:20241108T203000
DTSTAMP:20240715T165455Z
URL:https://elternforum-marbach.de/events/selbsthilfegruppe-fuer-familien-
 von-kindern-mit-autismus-2024-11-08/
SUMMARY:Selbsthilfegruppe für Familien von Kindern mit Autismus
DESCRIPTION:Eine Autismus-Spektrum-Störung eines Kindes beeinflusst das Fa
 milienleben sehr.\n\nOft fühlt man sich hilflos\, alleine und unverstande
 n. Wie gehen andere betroffene Familien mit den alltäglichen Belastungen 
 um?\n\nOft bringt es schon Erleichterung\, sich einfach mal in einem Gespr
 äch auszutauschen. Sich gegenseitig Halt und Verständnis zu geben. Infor
 mationen\, sowie wichtige Adressen und Anlaufstellen auszutauschen.\nSo ka
 nn man wieder Kraft tanken und fühlt sich verstanden und profitiert von E
 rfahrungen.\n\nDie Gruppe trifft sich jeden zweiten Freitag im Monat und d
 u bist mit allen Fragen und Sorgen rund um das Thema Kinder mit Autismus\,
  herzlich willkommen.\n\nKontakt/Anmeldung:\nTel: 0179/5237642\nEmail: shg
 -autismus(at)elternforum-marbach.de
CATEGORIES:Veranstaltungen
LOCATION:Familienzentrum Marbach\, Markstraße 6\, Marbach am Neckar\, 7167
 2\, Deutschland
X-APPLE-STRUCTURED-LOCATION;VALUE=URI;X-ADDRESS=Markstraße 6\, Marbach am 
 Neckar\, 71672\, Deutschland;X-APPLE-RADIUS=100;X-TITLE=Familienzentrum Ma
 rbach:geo:0,0
END:VEVENT
BEGIN:VTIMEZONE
TZID:Europe/Berlin
X-LIC-LOCATION:Europe/Berlin
BEGIN:STANDARD
DTSTART:20241027T020000
TZOFFSETFROM:+0200
TZOFFSETTO:+0100
TZNAME:CET
END:STANDARD
END:VTIMEZONE
END:VCALENDAR