BEGIN:VCALENDAR
VERSION:2.0
PRODID:-//wp-events-plugin.com//7.2.3.1//EN
TZID:Europe/Berlin
X-WR-TIMEZONE:Europe/Berlin
BEGIN:VEVENT
UID:888@elternforum-marbach.de
DTSTART;TZID=Europe/Berlin:20241109T124500
DTEND;TZID=Europe/Berlin:20241109T141500
DTSTAMP:20240627T210105Z
URL:https://elternforum-marbach.de/events/pflasterpass-silber-2/
SUMMARY:Pflasterpass Silber
DESCRIPTION:Pflasterpass: Erste Hilfe für Kinder leicht gemacht\nKinder si
 nd abenteuerlustig und neugierig. Sie erkunden ihre Umwelt und lernen dabe
 i jeden Tag etwas Neues. Leider gehen damit auch kleine Unfälle und Verle
 tzungen einher\, die schnell passieren können. Wie können wir als Eltern
 \, Lehrer oder Betreuungspersonen sicherstellen\, dass Kinder in solchen M
 omenten richtig reagieren und keine Angst haben? Hier kommt der Pflasterpa
 ss ins Spiel.\nWas ist der Pflasterpass?\nDer Pflasterpass ist ein innovat
 ives Programm zur ersten Hilfe für Kinder. Es wurde entwickelt\, um Kinde
 r frühzeitig mit den Grundlagen der Ersten Hilfe vertraut zu machen. Dabe
 i steht nicht nur die Vermittlung von Wissen im Vordergrund\, sondern auch
  die Förderung von Mut und Selbstvertrauen im Umgang mit Verletzungen.\nD
 ie Idee hinter dem Pflasterpass\nDie Idee des Pflasterpasses stammt von er
 fahrenen Pädagogen und Rettungskräften\, die erkannt haben\, dass Kinder
  oft die ersten Zeugen und Helfer bei kleineren Unfällen sind. Indem sie 
 frühzeitig lernen\, wie sie sich in Notsituationen verhalten sollen\, kö
 nnen sie im Ernstfall ruhig und besonnen reagieren. Außerdem hilft es\, d
 ie Angst vor Verletzungen zu nehmen und das Selbstvertrauen zu stärken.\n
 Silberkurs\nDauer\n2*45 Min\, bitte Getränke mitgeben\nKursinhalte\nInhal
 te des Bronzekurses werden wiederholt und zusätzlich:\n\n 	Die 3 Säulen 
 des Lebens (Bewusstsein\, Atmung und Kreislauf)\n 	Was bedeutet es bewusst
 los zu sein\n 	Verstehen und Üben der stabilen Seitenlage\n 	weitere Verb
 ände\n\nZielgruppe\nVorschulkinder (ca. 5 - 6 Jahre)\nKosten\n15 €\n(Er
 mäßigung 30% für Inhaber des Kultur- und Freizeitpass der Stadt Marbach
 )\n&nbsp\;\nAnmeldung und weitere Informationen\nDie Teilnahme an den Kurs
 en ist eine großartige Möglichkeit\, um die Erste-Hilfe-Kenntnisse deine
 r Kinder zu fördern. Die Anmeldung erfolgt direkt per E-Mail an event@elt
 ernforum-marbach.de. Bitte melde dein Kind rechtzeitig an\, da die Plätze
  begrenzt sind und diese Kurse sehr gefragt sind.\n\nNotwendige Angaben be
 i der Anmeldung:\n\n 	Name der Ansprechperson (i.d.R. Erziehungsberechtigt
 er)\n 	Name des Kindes\n 	Alter des Kindes (bei Kurstermin)\n 	Vorhergehen
 der Kurs absolviert: ja / nein\n 	Kursfarbe\n 	Wunschzeit\n 	Kultur- und F
 reizeitpass Marbach: ja / nein\n 	Kontakt: Mailadresse (zur Bestätigung u
 nd späterer Zahlungsaufforderung\, wenn abweichend von der Anmeldung) und
  Telefonnummer (Erreichbarkeit bitte auch während dem Kurs)\n
CATEGORIES:Veranstaltung externe Anbieter,Veranstaltungen
LOCATION:Familienzentrum Marbach\, Markstraße 6\, Marbach am Neckar\, 7167
 2\, Deutschland
X-APPLE-STRUCTURED-LOCATION;VALUE=URI;X-ADDRESS=Markstraße 6\, Marbach am 
 Neckar\, 71672\, Deutschland;X-APPLE-RADIUS=100;X-TITLE=Familienzentrum Ma
 rbach:geo:0,0
END:VEVENT
BEGIN:VTIMEZONE
TZID:Europe/Berlin
X-LIC-LOCATION:Europe/Berlin
BEGIN:STANDARD
DTSTART:20241027T020000
TZOFFSETFROM:+0200
TZOFFSETTO:+0100
TZNAME:CET
END:STANDARD
END:VTIMEZONE
END:VCALENDAR