BEGIN:VCALENDAR
VERSION:2.0
PRODID:-//wp-events-plugin.com//7.2.3.1//EN
TZID:Europe/Berlin
X-WR-TIMEZONE:Europe/Berlin
BEGIN:VEVENT
UID:2414@elternforum-marbach.de
DTSTART;TZID=Europe/Berlin:20260428T193000
DTEND;TZID=Europe/Berlin:20260428T200000
DTSTAMP:20260324T154914Z
URL:https://elternforum-marbach.de/events/online-vortrag-fit-in-die-schule
 /
SUMMARY:Online Vortrag Fit für die Schule
DESCRIPTION:\n\n\n\n\nFit für die Schule\n\n\n\n\nEltern stellen sich viel
 e Fragen\, wenn Ihr Kind in die Schule kommt.\n\n\n\n 	Schafft mein Kind d
 ie Anforderungen?\n 	Wie kann ich mein Kind bestmöglich auf die Schule vo
 rbereiten?\n\n\n\nIn diesem Online-Vortrag bekommen Sie Tipps und Anregung
 en rund um dieses Thema.\n\n\n\n\nReferentin Andrea Ertl\, Lernberaterin u
 nd Elterncoach\n\n\nKostenfrei\n\n\n\n\n\n\n\nDienstag 28.04. 2026\n\n\n\n
 \n19:30 Uhr\n\n\n\n\nOnline Veranstaltung via Zoom\n\n\n\n\nAnmeldung bis 
 25.04.2026 :\n\n\n\n\nevent@elternforum-marbach.de\n\n\n\n\n\n\n
CATEGORIES:Veranstaltung externe Anbieter
END:VEVENT
BEGIN:VTIMEZONE
TZID:Europe/Berlin
X-LIC-LOCATION:Europe/Berlin
BEGIN:DAYLIGHT
DTSTART:20260329T030000
TZOFFSETFROM:+0100
TZOFFSETTO:+0200
TZNAME:CEST
END:DAYLIGHT
END:VTIMEZONE
END:VCALENDAR