BEGIN:VCALENDAR
VERSION:2.0
PRODID:-//wp-events-plugin.com//7.2.3.1//EN
TZID:Europe/Berlin
X-WR-TIMEZONE:Europe/Berlin
BEGIN:VEVENT
UID:891@elternforum-marbach.de
DTSTART;TZID=Europe/Berlin:20240719T170000
DTEND;TZID=Europe/Berlin:20240719T220000
DTSTAMP:20240715T161134Z
URL:https://elternforum-marbach.de/events/nummernvergabe-kinderkleidermark
 t-marbach/
SUMMARY:Nummernvergabe Kinderkleidermarkt Marbach
DESCRIPTION:Der nächste Kinderkleidermarkt  - Alles fürs Kind\n\n 	\nfin
 det am Samstag\, 07.09.'24 von 10-12 Uhr in der Stadthalle auf der Schille
 rhöhe statt.\n 	\nEinlass für Schwangere ist ab 9:45 Uhr. Eine Begleitpe
 rson ist erlaubt.\n 	\nKinderwägen sind beim Besuch des Kleidermarkts nic
 ht erlaubt.\n\n\n 	Die Nummernvergabe findet Freitag\, den 19.7.'24 statt.
 \n 	\nVoraussichtlich wird die Korbabgabe am Freitag\, 06.09.24 von 17:00 
 Uhr - 17:30 Uhr sein.\n 	\nVoraussichtlich wird die Korbabholung am Samsta
 g\, 07.09.24 von 18:00 Uhr - 18:30 Uhr sein.\n
CATEGORIES:Kinderkleidermarkt
LOCATION:https://www.kleidermarkt-marbach.de/index.php/anmeldung
END:VEVENT
BEGIN:VTIMEZONE
TZID:Europe/Berlin
X-LIC-LOCATION:Europe/Berlin
BEGIN:DAYLIGHT
DTSTART:20240331T030000
TZOFFSETFROM:+0100
TZOFFSETTO:+0200
TZNAME:CEST
END:DAYLIGHT
END:VTIMEZONE
END:VCALENDAR