BEGIN:VCALENDAR
VERSION:2.0
PRODID:-//wp-events-plugin.com//7.2.3.1//EN
TZID:Europe/Berlin
X-WR-TIMEZONE:Europe/Berlin
BEGIN:VEVENT
UID:983@elternforum-marbach.de
DTSTART;TZID=Europe/Berlin:20241110T123000
DTEND;TZID=Europe/Berlin:20241110T173000
DTSTAMP:20241011T185330Z
URL:https://elternforum-marbach.de/events/mitmachaktion-schillersonntag/
SUMMARY:Mitmachaktion Schillersonntag
DESCRIPTION:
CATEGORIES:Veranstaltungen
LOCATION:Familienzentrum Marbach\, Markstraße 6\, Marbach am Neckar\, 7167
 2\, Deutschland
X-APPLE-STRUCTURED-LOCATION;VALUE=URI;X-ADDRESS=Markstraße 6\, Marbach am 
 Neckar\, 71672\, Deutschland;X-APPLE-RADIUS=100;X-TITLE=Familienzentrum Ma
 rbach:geo:0,0
END:VEVENT
BEGIN:VTIMEZONE
TZID:Europe/Berlin
X-LIC-LOCATION:Europe/Berlin
BEGIN:STANDARD
DTSTART:20241027T020000
TZOFFSETFROM:+0200
TZOFFSETTO:+0100
TZNAME:CET
END:STANDARD
END:VTIMEZONE
END:VCALENDAR