BEGIN:VCALENDAR
VERSION:2.0
PRODID:-//wp-events-plugin.com//7.2.3.1//EN
TZID:Europe/Berlin
X-WR-TIMEZONE:Europe/Berlin
BEGIN:VEVENT
UID:984@elternforum-marbach.de
DTSTART;TZID=Europe/Berlin:20250125T094500
DTEND;TZID=Europe/Berlin:20250125T120000
DTSTAMP:20241128T202459Z
URL:https://elternforum-marbach.de/events/marbacher-kleidermarkt-fruehjahr
 -2025/
SUMMARY:Marbacher Kleidermarkt Frühjahr 2025
DESCRIPTION:Der nächste Kinderkleidermarkt  - Alles fürs Kind\n\n 	\nfin
 det am Samstag\, 25.01.25 von 10-12 Uhr in der Stadthalle auf der Schiller
 höhe statt.\n 	\nEinlass für Schwangere ist ab 9:45 Uhr. Eine Begleitper
 son ist erlaubt.\n 	\n\n\nKinderwägen sind beim Besuch des Kleidermarkts 
 nicht erlaubt.\n\n\n 	Die Nummernvergabe findet Freitag\, den 9.12.2024 st
 att.\n 	\nVorraussichtlich wird die Korbabgabe am Freitag\, 24.01.2025 von
  17:00 Uhr - 17:30 Uhr sein.\n 	\nVorraussichtlich wird die Korbabholung a
 m Samstag\, 06.01.2025 von 18:00 Uhr - 18:30 Uhr sein.\n\nInteresse als He
 lfer beim Kinderkleidermarkt einzusteigen? Sprechen Sie uns an oder melden
  Sie sich per E-Mail bei Kinderkleidermarkt(@)Elternforum-Marbach.de.\n\n
CATEGORIES:Kinderkleidermarkt
LOCATION:Stadthalle auf der Schillerhöhe\, Schillerhöhe 12\, Marbach am N
 eckar\, Baden-Württemberg\, 71672\, Deutschland
X-APPLE-STRUCTURED-LOCATION;VALUE=URI;X-ADDRESS=Schillerhöhe 12\, Marbach 
 am Neckar\, Baden-Württemberg\, 71672\, Deutschland;X-APPLE-RADIUS=100;X-
 TITLE=Stadthalle auf der Schillerhöhe:geo:0,0
END:VEVENT
BEGIN:VTIMEZONE
TZID:Europe/Berlin
X-LIC-LOCATION:Europe/Berlin
BEGIN:STANDARD
DTSTART:20241027T020000
TZOFFSETFROM:+0200
TZOFFSETTO:+0100
TZNAME:CET
END:STANDARD
END:VTIMEZONE
END:VCALENDAR