BEGIN:VCALENDAR
VERSION:2.0
PRODID:-//wp-events-plugin.com//7.2.3.1//EN
TZID:Europe/Berlin
X-WR-TIMEZONE:Europe/Berlin
BEGIN:VEVENT
UID:2403@elternforum-marbach.de
DTSTART;TZID=Europe/Berlin:20260206T163000
DTEND;TZID=Europe/Berlin:20260206T171500
DTSTAMP:20260124T134212Z
URL:https://elternforum-marbach.de/events/kreatives-eltern-kind-yoga/
SUMMARY:Kreatives Eltern Kind Yoga Schnuppertermin
DESCRIPTION:\n\n\nKreatives Eltern Kind Yoga\n\n\n\nYoga für alle Sinne\n\
 n\n\n\nFür Eltern und Kinder von 4 - 6\,5 Jahren wird ein kreativer Yoga 
 Workshop mit Bastelüberraschung angeboten.\n\n\n\n\nBitte bequeme Kleidun
 g\, Rutsche-Socken\, Getränk und wenn vorhanden eine Matte mitbringen.\n\
 n\n\nSchnuppertermine !\n\n\n\n\nFreitag 06.02. und 13.02.2026\n\n\n\n\n16
 :30 - 17:15 Uhr\n\nFamilienzentrum\n\n\n\n\nMarktstr. 6\n\n\n\n\n\n\n\n\n\
 nAnmeldung:\n\n\n\n\nJNeueder@web.de\n\n\n\n\n
CATEGORIES:Veranstaltungen
LOCATION:Familienzentrum Marbach\, Markstraße 6\, Marbach am Neckar\, 7167
 2\, Deutschland
X-APPLE-STRUCTURED-LOCATION;VALUE=URI;X-ADDRESS=Markstraße 6\, Marbach am 
 Neckar\, 71672\, Deutschland;X-APPLE-RADIUS=100;X-TITLE=Familienzentrum Ma
 rbach:geo:0,0
END:VEVENT
BEGIN:VTIMEZONE
TZID:Europe/Berlin
X-LIC-LOCATION:Europe/Berlin
BEGIN:STANDARD
DTSTART:20251026T020000
TZOFFSETFROM:+0200
TZOFFSETTO:+0100
TZNAME:CET
END:STANDARD
END:VTIMEZONE
END:VCALENDAR