BEGIN:VCALENDAR
VERSION:2.0
PRODID:-//wp-events-plugin.com//7.2.3.1//EN
TZID:Europe/Berlin
X-WR-TIMEZONE:Europe/Berlin
BEGIN:VEVENT
UID:582@elternforum-marbach.de
DTSTART;TZID=Europe/Berlin:20231120T173000
DTEND;TZID=Europe/Berlin:20231120T183000
DTSTAMP:20231118T165354Z
URL:https://elternforum-marbach.de/events/kinderzuschlag-mehr-geld-fuer-di
 e-familie/
SUMMARY:Kinderzuschlag - Mehr Geld für die Familie
DESCRIPTION:Wenn das Einkommen nicht für die ganze Familie reicht\, könne
 n Eltern zusätzlich zum Kindergeld einen Kinderzuschlag von bis zu 250 Eu
 ro im Monat erhalten. Der Kinderzuschlag hat aber weitere finanzielle Vort
 eile. Besucht Ihr Kind zum Beispiel eine Kindertagesstätte\, können Sie 
 sich von den Gebühren für den Kita Platz befreien lassen. Zusätzlich si
 nd Leistungen für Bildung und Teilhabe möglich\, wie bspw. Kostenerstatt
 ungen für Mittagessen in Kita und Schule\, Klassenfahrten\, Schulbedarf\,
  Kita und Schulausflüge. In der Veranstaltung erhalten Sie Antworten auf 
 die Fragen:\n\n 	Was ist der Kinderzuschlag?\n 	Welche Voraussetzungen mü
 ssen erfüllt sein?\n 	Wo und wie können Sie den Kinderzuschlag beantrage
 n?\n 	Welche Leistungen für Familien gibt es noch?\n\nAnhand von anschaul
 ichen Beispielen erfahren Sie\, was sie rund um den Kinderzuschlag für Fa
 milien wissen sollten.\n\nReferentin:\nNina Buci | Führungsberaterin/ Pro
 jektkoordinatorin | Familienkasse Baden Württemberg Ost\n\n231120_Think_B
 IG_Flyer_KiZ2\n\n&nbsp\;\n\nHierbei handelt es sich um eine Veranstaltung 
 die von einem vom Elternforum Marbach e.V. unabhängigen Unternehmen/Organ
 isation durchgeführt wird.
CATEGORIES:Veranstaltung externe Anbieter
LOCATION:https://eveeno.com/Kinderzuschlag
END:VEVENT
BEGIN:VTIMEZONE
TZID:Europe/Berlin
X-LIC-LOCATION:Europe/Berlin
BEGIN:STANDARD
DTSTART:20231029T020000
TZOFFSETFROM:+0200
TZOFFSETTO:+0100
TZNAME:CET
END:STANDARD
END:VTIMEZONE
END:VCALENDAR