BEGIN:VCALENDAR
VERSION:2.0
PRODID:-//wp-events-plugin.com//7.2.3.1//EN
TZID:Europe/Berlin
X-WR-TIMEZONE:Europe/Berlin
BEGIN:VEVENT
UID:892@elternforum-marbach.de
DTSTART;TZID=Europe/Berlin:20240907T094500
DTEND;TZID=Europe/Berlin:20240907T120000
DTSTAMP:20240715T161311Z
URL:https://elternforum-marbach.de/events/kinderkleidermarkt-marbach/
SUMMARY:Kinderkleidermarkt Marbach
DESCRIPTION:Der nächste Kinderkleidermarkt  - Alles fürs Kind\n\n 	\nfin
 det am Samstag\, 07.09.'24 von 10-12 Uhr in der Stadthalle auf der Schille
 rhöhe statt.\n 	\nEinlass für Schwangere ist ab 9:45 Uhr. Eine Begleitpe
 rson ist erlaubt.\n 	\nKinderwägen sind beim Besuch des Kleidermarkts nic
 ht erlaubt.\n\n\n 	Die Nummernvergabe findet Freitag\, den 19.7.'24 statt.
 \n 	\nVorraussichtlich wird die Korbabgabe am Freitag\, 06.09.24 von 17:00
  Uhr - 17:30 Uhr sein.\n 	\nVorraussichtlich wird die Korbabholung am Sams
 tag\, 07.09.24 von 18:00 Uhr - 18:30 Uhr sein.\n\nNächste geplante Kinder
 kleidermärkte: Februar/März.'25\nInteresse als Helfer beim Kinderkleider
 markt einzusteigen? Sprechen Sie uns an oder melden Sie sich per E-Mail be
 i Kinderkleidermarkt(@)Elternforum-Marbach.de.\n\n
CATEGORIES:Kinderkleidermarkt
LOCATION:Stadthalle auf der Schillerhöhe\, Schillerhöhe 12\, Marbach am N
 eckar\, Baden-Württemberg\, 71672\, Deutschland
X-APPLE-STRUCTURED-LOCATION;VALUE=URI;X-ADDRESS=Schillerhöhe 12\, Marbach 
 am Neckar\, Baden-Württemberg\, 71672\, Deutschland;X-APPLE-RADIUS=100;X-
 TITLE=Stadthalle auf der Schillerhöhe:geo:0,0
END:VEVENT
BEGIN:VTIMEZONE
TZID:Europe/Berlin
X-LIC-LOCATION:Europe/Berlin
BEGIN:DAYLIGHT
DTSTART:20240331T030000
TZOFFSETFROM:+0100
TZOFFSETTO:+0200
TZNAME:CEST
END:DAYLIGHT
END:VTIMEZONE
END:VCALENDAR