BEGIN:VCALENDAR
VERSION:2.0
PRODID:-//wp-events-plugin.com//7.2.3.1//EN
TZID:Europe/Berlin
X-WR-TIMEZONE:Europe/Berlin
BEGIN:VEVENT
UID:637@elternforum-marbach.de
DTSTART;TZID=Europe/Berlin:20240718T153000
DTEND;TZID=Europe/Berlin:20240718T163000
DTSTAMP:20240715T184530Z
URL:https://elternforum-marbach.de/events/kids-kreativ-2024-07-18/
SUMMARY:Kids kreativ
DESCRIPTION:Wir freuen uns\, bekannt zu geben\, dass das Familienzentrum Ma
 rbach nun wieder jeden zweiten Donnerstag eine spannende Kinder Kreativ We
 rkstatt für Kinder im Alter von 3 bis 4 Jahren anbietet!\n\n\n\n\nDie Kin
 der Kreativ Werkstatt ist ein Ort der Inspiration und des gemeinsamen Scha
 ffens für Groß und Klein. Hier haben Kinder die Möglichkeit\, ihre krea
 tiven Seiten zu entdecken und gemeinsam einzigartige Kunstwerke zu gestalt
 en.\n\nMütter mit einer kreativen Ader stehen mit Rat und Tat zur Seite\,
  um euch bei euren kreativen Projekten zu helfen und euch bei jedem Schrit
 t zu unterstützen. Von Malerei über Basteln bis hin zu Upcycling-Projekt
 en gibt es für jeden etwas zu entdecken und auszuprobieren.\n\nOb dein Ki
 nd ein "erfahrener" Künstler ist oder einfach nur Spaß daran hat\, Neues
  auszuprobieren\, die Kinder Kreativ Werkstatt heißt euch herzlich willko
 mmen! Lasst eurer Fantasie freien Lauf.\n\nDie Teilnahme ist kostenlos und
  alle Materialien werden gestellt. Wir bitten jedoch um vorherige Anmeldun
 g\, um sicherzustellen\, dass genügend Platz und Material vorhanden ist.\
 n\nEs ist darauf zu achten\, dass die Kinder geeignete Kleidung zum Malen 
 und Basteln tragen. Es ist nun mal noch kein Picasso vom Himmel gefallen.\
 n\n\n\n
CATEGORIES:Kids kreativ
LOCATION:Familienzentrum Marbach\, Markstraße 6\, Marbach am Neckar\, 7167
 2\, Deutschland
X-APPLE-STRUCTURED-LOCATION;VALUE=URI;X-ADDRESS=Markstraße 6\, Marbach am 
 Neckar\, 71672\, Deutschland;X-APPLE-RADIUS=100;X-TITLE=Familienzentrum Ma
 rbach:geo:0,0
END:VEVENT
BEGIN:VTIMEZONE
TZID:Europe/Berlin
X-LIC-LOCATION:Europe/Berlin
BEGIN:DAYLIGHT
DTSTART:20240331T030000
TZOFFSETFROM:+0100
TZOFFSETTO:+0200
TZNAME:CEST
END:DAYLIGHT
END:VTIMEZONE
END:VCALENDAR