BEGIN:VCALENDAR
VERSION:2.0
PRODID:-//wp-events-plugin.com//7.2.3.1//EN
TZID:Europe/Berlin
X-WR-TIMEZONE:Europe/Berlin
BEGIN:VEVENT
UID:585@elternforum-marbach.de
DTSTART;TZID=Europe/Berlin:20231212T173000
DTEND;TZID=Europe/Berlin:20231212T190000
DTSTAMP:20231118T165450Z
URL:https://elternforum-marbach.de/events/gruenderinnen-mindset-was-neben-
 einem-guten-produkt-noch-fuer-eine-gruendung-hilfreich-ist-und-was-nicht/
SUMMARY:Gründerinnen Mindset - Was neben einem guten Produkt noch für ein
 e Gründung hilfreich ist (und was nicht)
DESCRIPTION:Was hält Frauen vom Gründen ab? Scheinbar eine ganze Menge.\n
 Laut Studien sind Frauen\, was Gründungen angeht\, im Vergleich zu Männe
 rn immer noch in der Unterzahl.\nDoch an was mag dies liegen?\nAn guten Id
 een wohl kaum\, denn diese sind zahlreich vorhanden.\nGibt es vielleicht e
 ine Art mentale Handbremse\, welche uns beeinträchtigt?\n\nZiel des Vortr
 ags ist es\, dass Sie negative Glaubenssätze erkennen und für sich Strat
 egien entwickeln\, mit denen Sie diese umetikettieren können.\n\nIhre Ref
 erentin:\nSara Schirrmann (Business Coach).\nIn dem interaktiven Webinar z
 eigt sie auf\, welchen Denkmustern sie vielfach im Bewerbungsgespräch beg
 egnet ist.\n\n&nbsp\;\n\nHierbei handelt es sich um eine Veranstaltung die
  von einem vom Elternforum Marbach e.V. unabhängigen Unternehmen/Organisa
 tion durchgeführt wird.
CATEGORIES:Veranstaltung externe Anbieter
LOCATION:https://web.arbeitsagentur.de/portal/metasuche/suche/veranstaltung
 en/10000-2000975500-V
END:VEVENT
BEGIN:VTIMEZONE
TZID:Europe/Berlin
X-LIC-LOCATION:Europe/Berlin
BEGIN:STANDARD
DTSTART:20231029T020000
TZOFFSETFROM:+0200
TZOFFSETTO:+0100
TZNAME:CET
END:STANDARD
END:VTIMEZONE
END:VCALENDAR