BEGIN:VCALENDAR
VERSION:2.0
PRODID:-//wp-events-plugin.com//7.2.3.1//EN
TZID:Europe/Berlin
X-WR-TIMEZONE:Europe/Berlin
BEGIN:VEVENT
UID:1831@elternforum-marbach.de
DTSTART;TZID=Europe/Berlin:20260224T190000
DTEND;TZID=Europe/Berlin:20260224T210000
DTSTAMP:20251221T090944Z
URL:https://elternforum-marbach.de/events/fit-fuer-die-schule-onlinevortra
 g/
SUMMARY:Fit für die Schule  Onlinevortrag
DESCRIPTION:\n\nEltern stellen sich viele Fragen\, wenn Ihr Kind in die Sch
 ule kommt.\n\n\n 	Schafft mein Kind die Anforderungen?\n 	Wie kann ich mei
 n Kind bestmöglich auf die Schule vorbereiten?\n\n\n\nIn diesem Online-Vo
 rtrag bekommen Sie Tipps und Anregungen rund um dieses Thema.\n\n\n\n\nRef
 erentin Andrea Ertl\, Lernberaterin und Elterncoach\n\n\n\n\n\n\n\nDiensta
 g 24.Februar 2026\n\n\n\n\n19:00 Uhr\n\n\n\n\nOnline Veranstaltung via Zoo
 m\n\n\n\n\nAnmeldung :\n\n\n\n\nevent@elternforum-marbach.de\n\n\n\n
CATEGORIES:Veranstaltungen
END:VEVENT
BEGIN:VTIMEZONE
TZID:Europe/Berlin
X-LIC-LOCATION:Europe/Berlin
BEGIN:STANDARD
DTSTART:20251026T020000
TZOFFSETFROM:+0200
TZOFFSETTO:+0100
TZNAME:CET
END:STANDARD
END:VTIMEZONE
END:VCALENDAR