BEGIN:VCALENDAR
VERSION:2.0
PRODID:-//wp-events-plugin.com//7.2.3.1//EN
TZID:Europe/Berlin
X-WR-TIMEZONE:Europe/Berlin
BEGIN:VEVENT
UID:1830@elternforum-marbach.de
DTSTART;TZID=Europe/Berlin:20260120T190000
DTEND;TZID=Europe/Berlin:20260120T210000
DTSTAMP:20251221T090152Z
URL:https://elternforum-marbach.de/events/erfolgreich-zu-hause-lernen-onli
 nevortrag/
SUMMARY:Erfolgreich zu Hause lernen Onlinevortrag
DESCRIPTION:\n\n\n\n\nEltern stellen sich viele Fragen\, wenn sich Ihr Kind
  mit dem Lernen zu Hause schwer tut.\n\n\n\n\nIn diesem Online-Vortrag bek
 ommen Sie Antworten rund um dieses Thema und können für sich entscheiden
 \, wie es für Sie und Ihr Kind weitergehen kann.\n\n\n\n\nZudem werden hi
 lfreiche Anregungen zu den Themen Hausaufgaben\, Mathe\, Deutsch\, Fremdsp
 rache oder auch Verweigerung weitergegeben.\n\n\n\n\nReferentin: Andrea Er
 tl\, Lernberaterin und Elterncoach\n\n\n\n\n\n\n\n\nDienstag 20.Januar 202
 6\n\n\n\n\n19:00 Uhr\n\n\n\n\nOnline Veranstaltung via Zoom\n\n\n\n\nAnmel
 dung :\n\n\n\n\nevent@elternforum-marbach.de\n\n\n\n
CATEGORIES:Veranstaltungen
END:VEVENT
BEGIN:VTIMEZONE
TZID:Europe/Berlin
X-LIC-LOCATION:Europe/Berlin
BEGIN:STANDARD
DTSTART:20251026T020000
TZOFFSETFROM:+0200
TZOFFSETTO:+0100
TZNAME:CET
END:STANDARD
END:VTIMEZONE
END:VCALENDAR