BEGIN:VCALENDAR
VERSION:2.0
PRODID:-//wp-events-plugin.com//7.2.3.1//EN
TZID:Europe/Berlin
X-WR-TIMEZONE:Europe/Berlin
BEGIN:VEVENT
UID:584@elternforum-marbach.de
DTSTART;TZID=Europe/Berlin:20231128T100000
DTEND;TZID=Europe/Berlin:20231128T113000
DTSTAMP:20231118T165038Z
URL:https://elternforum-marbach.de/events/ein-mann-ist-keine-altersvorsorg
 e-finanzielle-unabhaengigkeit-von-frauen-beginnt-jetzt/
SUMMARY:Ein Mann ist KEINE Altersvorsorge! - Finanzielle Unabhängigkeit vo
 n Frauen beginnt jetzt!
DESCRIPTION:Viele Frauen schränken sich beruflich wegen ihrer Familie mehr
 ere Jahre ein im Glauben\, dass die Liebe hält Geht die Beziehung auseina
 nder oder wird der Partner arbeitslos oder berufsunfähig\, verlieren sie 
 oft ihre finanzielle Basis und geraten in existenzielle Not.\n\nDie Refere
 ntin Helma Sick ist Betriebswirtin\, Finanzexpertin\, Feministin und\nSach
 buchautorin Sie räumt in ihrem Vortrag mit Illusionen\, Vorurteilen und f
 alschen Rollenvorstellungen auf Sie ermutigt Frauen\, eine Ehe nicht mehr 
 als\nVersorgungseinrichtung zu sehen\, sondern sich um ihre eigene finanzi
 elle Unabhängigkeit zu kümmern.\n\nLebensnahe Beispiele aus der Beratung
 spraxis und praktische Tipps machen den Vortrag zu einem spannenden Erlebn
 is.\n\nReferentin:\nHelma Sick\nEine Kooperation der Beauftragten für Cha
 ncengleichheit am Arbeitsmarkt aller Arbeitsagenturen und Jobcenter in Bad
 en Württemberg\n\n231128_Think_BIG_Flyer_Helma Sick (002)\n\n&nbsp\;\n\nH
 ierbei handelt es sich um eine Veranstaltung die von einem vom Elternforum
  Marbach e.V. unabhängigen Unternehmen/Organisation durchgeführt wird.
CATEGORIES:Veranstaltung externe Anbieter
LOCATION:https://eveeno.com/203047126
END:VEVENT
BEGIN:VTIMEZONE
TZID:Europe/Berlin
X-LIC-LOCATION:Europe/Berlin
BEGIN:STANDARD
DTSTART:20231029T020000
TZOFFSETFROM:+0200
TZOFFSETTO:+0100
TZNAME:CET
END:STANDARD
END:VTIMEZONE
END:VCALENDAR