BEGIN:VCALENDAR
VERSION:2.0
PRODID:-//wp-events-plugin.com//7.2.3.1//EN
TZID:Europe/Berlin
X-WR-TIMEZONE:Europe/Berlin
BEGIN:VEVENT
UID:583@elternforum-marbach.de
DTSTART;TZID=Europe/Berlin:20231206T170000
DTEND;TZID=Europe/Berlin:20231206T183000
DTSTAMP:20231118T165143Z
URL:https://elternforum-marbach.de/events/berufliche-zukunftsplaene-schmie
 den/
SUMMARY:Berufliche Zukunftspläne schmieden
DESCRIPTION:Sie suchen eine berufliche Veränderung oder planen den Wiedere
 instieg ins Erwerbsleben?\nSie möchten sich weiterbilden und benötigen I
 nformationen zu Trends auf dem Arbeitsmarkt?\nSie wollen eine Ausbildung m
 achen\, brauchen für Ihren Lebensunterhalt aber mehr als die Ausbildungsv
 ergütung?\nWir zeigen mit Hilfe folgender Beispiele\, wie der berufliche 
 Neustart auch finanziell gelingen kann:\n\n 	Direkteinstieg Kita bei volle
 m Gehalt Ausbildung zur sozialpädagogischen Assistenz\n 	Im Turbogang mit
  Berufserfahrung zum Berufsabschluss!\n 	Berufsausbildung und was geht dan
 n noch?\n\nIhre Referentin:\nAnnette Thoms | Berufsberaterin im Erwerbsleb
 en | Agentur für Arbeit Heilbronn\n\n&nbsp\;\n\nHierbei handelt es sich u
 m eine Veranstaltung die von einem vom Elternforum Marbach e.V. unabhängi
 gen Unternehmen/Organisation durchgeführt wird.
CATEGORIES:Veranstaltung externe Anbieter
LOCATION:https://eveeno.com/434587857
END:VEVENT
BEGIN:VTIMEZONE
TZID:Europe/Berlin
X-LIC-LOCATION:Europe/Berlin
BEGIN:STANDARD
DTSTART:20231029T020000
TZOFFSETFROM:+0200
TZOFFSETTO:+0100
TZNAME:CET
END:STANDARD
END:VTIMEZONE
END:VCALENDAR